BEGIN:VCALENDAR
VERSION:2.0
PRODID:-//Tukios.com/
BEGIN:VEVENT
UID:3464bc32-7bc8-40cb-86cf-f0eb3938e032@www.fidler-isburgfuneralchapels.com
DTSTAMP:20260420T082740Z
DTSTART:20260425T200000Z
DTEND:20260425T210000Z
SUMMARY:Memorial Gathering
DESCRIPTION:
URL:https://www.fidler-isburgfuneralchapels.com/obituaries/rebecca-becky-studt
LOCATION:Perkins Restaurant 2301 E Colorado Blvd  Spearfish SD 57783
GEO:44.4764343;-103.8201568
END:VEVENT
END:VCALENDAR