BEGIN:VCALENDAR
VERSION:2.0
PRODID:-//Tukios.com/
BEGIN:VEVENT
UID:a3fb5ad9-b25b-44e8-828a-d0f87dbcfee0@www.fidler-isburgfuneralchapels.com
DTSTAMP:20260424T204746Z
DTSTART:20260429T160000Z
DTEND:20260429T170000Z
SUMMARY:Memorial Service
DESCRIPTION:
URL:https://www.fidler-isburgfuneralchapels.com/obituaries/michael-kilmer
LOCATION: 450 N 7th St  Spearfish SD 57783
GEO:44.4876813;-103.8561511
END:VEVENT
END:VCALENDAR