BEGIN:VCALENDAR
VERSION:2.0
PRODID:-//Tukios.com/
BEGIN:VEVENT
UID:f25ac96c-6efe-416f-9604-4ce355075757@www.fidler-isburgfuneralchapels.com
DTSTAMP:20260423T214426Z
DTSTART:20260501T170000Z
DTEND:20260501T180000Z
SUMMARY:Celebration of Life
DESCRIPTION:
URL:https://www.fidler-isburgfuneralchapels.com/obituaries/donald-kurzenberger
LOCATION:Bowman Hall 511 6th Avenue  Belle Fourche SD 57717
GEO:44.6732218;-103.8518436
END:VEVENT
END:VCALENDAR