BEGIN:VCALENDAR
VERSION:2.0
PRODID:-//Tukios.com/
BEGIN:VEVENT
UID:f4dea79e-bb18-4d66-9fdb-8b64a97671a4@www.fidler-isburgfuneralchapels.com
DTSTAMP:20260423T213821Z
DTSTART:20260501T160000Z
DTEND:20260501T170000Z
SUMMARY:Burial
DESCRIPTION:
URL:https://www.fidler-isburgfuneralchapels.com/obituaries/donald-kurzenberger
LOCATION:Pine Slope Cemetery 200 South Dakota 34  Belle Fourche SD 57717
GEO:44.6470122;-103.8657208
END:VEVENT
END:VCALENDAR