BEGIN:VCALENDAR
VERSION:2.0
PRODID:-//Tukios.com/
BEGIN:VEVENT
UID:0b0c0387-6962-46fa-b252-c72668f775b9@www.fidler-isburgfuneralchapels.com
DTSTAMP:20260423T214141Z
DTSTART:20260428T194500Z
DTEND:20260428T204500Z
SUMMARY:Burial
DESCRIPTION:
URL:https://www.fidler-isburgfuneralchapels.com/obituaries/barbara-chrisman
LOCATION: 255 Ash Street  Spearfish SD 57783
GEO:44.4803813;-103.8506884
END:VEVENT
END:VCALENDAR