BEGIN:VCALENDAR
VERSION:2.0
PRODID:-//Tukios.com/
BEGIN:VEVENT
UID:a39243e8-eebf-45c1-982f-220aaf3dc1ec@www.fidler-isburgfuneralchapels.com
DTSTAMP:20260423T214007Z
DTSTART:20260428T170000Z
DTEND:20260428T180000Z
SUMMARY:Memorial Service
DESCRIPTION:
URL:https://www.fidler-isburgfuneralchapels.com/obituaries/barbara-chrisman
LOCATION:United Methodist Church 845 N 5th St  Spearfish SD 57783
GEO:44.4915526;-103.8614448
END:VEVENT
END:VCALENDAR