BEGIN:VCALENDAR
VERSION:2.0
PRODID:-//Tukios.com/
BEGIN:VEVENT
UID:0526a931-b2e0-488a-a4ce-512de86cb012@www.fidler-isburgfuneralchapels.com
DTSTAMP:20260423T214135Z
DTSTART:20260428T160000Z
DTEND:20260428T170000Z
SUMMARY:Visitation
DESCRIPTION:
URL:https://www.fidler-isburgfuneralchapels.com/obituaries/barbara-chrisman
LOCATION:United Methodist Church 845 N 5th St  Spearfish SD 57783
GEO:44.4915526;-103.8614448
END:VEVENT
END:VCALENDAR